BEGIN:VCALENDAR
VERSION:2.0
PRODID:-//Plone.org//NONSGML plone.app.event//EN
X-WR-TIMEZONE:America/Recife
BEGIN:VEVENT
SUMMARY:Reunião Comitê Barueri Cidade Sustentável
DTSTART;TZID=Brazil/East;VALUE=DATE-TIME:20200312T140000
DTEND;TZID=Brazil/East;VALUE=DATE-TIME:20200312T170000
DTSTAMP;VALUE=DATE-TIME:20260423T141929Z
UID:80ff1c20ff9d44debcc167659006b80e@www.barueri.sp.leg.br
CONTACT:SEMA\, (11) 4199 - 1500\, sema@barueri.sp.gov.br
CREATED;VALUE=DATE-TIME:20200127T155049Z
DESCRIPTION:Reunião do Comitê Barueri Cidade Sustentável
LAST-MODIFIED;VALUE=DATE-TIME:20200127T155055Z
LOCATION:Sala Vereadora Maria Evangelista
URL:https://www.barueri.sp.leg.br/institucional/eventos/reuniao-comite-bar
 ueri-cidade-sustentavel-3
END:VEVENT
BEGIN:VTIMEZONE
TZID:Brazil/East
X-LIC-LOCATION:Brazil/East
BEGIN:STANDARD
DTSTART;VALUE=DATE-TIME:20200215T230000
TZNAME:BRT
TZOFFSETFROM:-0200
TZOFFSETTO:-0300
END:STANDARD
END:VTIMEZONE
END:VCALENDAR
